BEGIN:VCALENDAR
VERSION:2.0
PRODID:-//Sport- und Erholungsvereinigung &quot;Kleiner Müggelsee&quot; e.V. - ECPv6.15.20//NONSGML v1.0//EN
CALSCALE:GREGORIAN
METHOD:PUBLISH
X-ORIGINAL-URL:https://www.sevkm.de
X-WR-CALDESC:Veranstaltungen für Sport- und Erholungsvereinigung &quot;Kleiner Müggelsee&quot; e.V.
REFRESH-INTERVAL;VALUE=DURATION:PT1H
X-Robots-Tag:noindex
X-PUBLISHED-TTL:PT1H
BEGIN:VTIMEZONE
TZID:Europe/Berlin
BEGIN:DAYLIGHT
TZOFFSETFROM:+0100
TZOFFSETTO:+0200
TZNAME:CEST
DTSTART:20230326T010000
END:DAYLIGHT
BEGIN:STANDARD
TZOFFSETFROM:+0200
TZOFFSETTO:+0100
TZNAME:CET
DTSTART:20231029T010000
END:STANDARD
BEGIN:DAYLIGHT
TZOFFSETFROM:+0100
TZOFFSETTO:+0200
TZNAME:CEST
DTSTART:20240331T010000
END:DAYLIGHT
BEGIN:STANDARD
TZOFFSETFROM:+0200
TZOFFSETTO:+0100
TZNAME:CET
DTSTART:20241027T010000
END:STANDARD
BEGIN:DAYLIGHT
TZOFFSETFROM:+0100
TZOFFSETTO:+0200
TZNAME:CEST
DTSTART:20250330T010000
END:DAYLIGHT
BEGIN:STANDARD
TZOFFSETFROM:+0200
TZOFFSETTO:+0100
TZNAME:CET
DTSTART:20251026T010000
END:STANDARD
END:VTIMEZONE
BEGIN:VEVENT
DTSTART;TZID=Europe/Berlin:20240803T150000
DTEND;TZID=Europe/Berlin:20240803T173000
DTSTAMP:20260419T161611
CREATED:20240211T002820Z
LAST-MODIFIED:20240211T002820Z
UID:231-1722697200-1722706200@www.sevkm.de
SUMMARY:Sportlicher Spielenachmittag
DESCRIPTION:Nach Lust und Laune. Bspw. Vökkerball\, Leitergolf und Wikingerschach.
URL:https://www.sevkm.de/event/sportlicher-spielenachmittag/
CATEGORIES:Ballsport
ATTACH;FMTTYPE=image/jpeg:https://www.sevkm.de/wp-content/uploads/2024/02/meritt-thomas-6d6bTwUDTE0-unsplash.jpg
END:VEVENT
BEGIN:VEVENT
DTSTART;TZID=Europe/Berlin:20240810T150000
DTEND;TZID=Europe/Berlin:20240810T150000
DTSTAMP:20260419T161611
CREATED:20240727T090652Z
LAST-MODIFIED:20240727T090847Z
UID:367-1723302000-1723302000@www.sevkm.de
SUMMARY:Dart Turnier
DESCRIPTION:Fünf Teilnehmerplätze sind noch frei. \nOder kommt einfach für gute Stimmung vorbei.
URL:https://www.sevkm.de/event/dart-turnier/
LOCATION:Mittelplatz
ATTACH;FMTTYPE=image/jpeg:https://www.sevkm.de/wp-content/uploads/2024/07/proxyclick-visitor-management-system-9P97yKT3Z4Y-unsplash.jpg
END:VEVENT
BEGIN:VEVENT
DTSTART;TZID=Europe/Berlin:20240811T100000
DTEND;TZID=Europe/Berlin:20240811T120000
DTSTAMP:20260419T161611
CREATED:20240413T134955Z
LAST-MODIFIED:20240706T135938Z
UID:256-1723370400-1723377600@www.sevkm.de
SUMMARY:Vollversammlung mit Abstimmungswahl
DESCRIPTION:Unsere Vollversammlung ist ein Treffen\, bei der alle Mitglieder unseres Vereins anwesend sind. In diesem Rahmen werden oft wichtige Entscheidungen getroffen\, Berichte präsentiert oder Diskussionen geführt. \n  \nWie üblich bei Bedarf eigene Sitzgelegenheit mitbringen. \n  \n–Update 29.06.2024– \nZur Wahl stehen: \n\nRevisionskommission: Annett Armoneit\, Christine Stanke\, Jutta Zander.\nVorstand: Marc Dubbe\, Andreas Bormann\, Wiebke Rosenheinrich\, Berit Ehlers\, Michael Stanke\, Anja Matthäus\, Gabi Keil\, Jörg Thimm\, Jacqueline Jeche.\n\nTagesordnungspunkte der Wahlversammlung am 11.08.24 \nEuer Vorstandsteam
URL:https://www.sevkm.de/event/vollversammlung-mit-abstimmungswahl/
LOCATION:Mittelplatz
CATEGORIES:Vereinsarbeit
ATTACH;FMTTYPE=image/jpeg:https://www.sevkm.de/wp-content/uploads/2024/04/sincerely-media-dGxOgeXAXm8-unsplash.jpg
END:VEVENT
BEGIN:VEVENT
DTSTART;TZID=Europe/Berlin:20240816T150000
DTEND;TZID=Europe/Berlin:20240816T180000
DTSTAMP:20260419T161611
CREATED:20240511T182410Z
LAST-MODIFIED:20240628T190553Z
UID:259-1723820400-1723831200@www.sevkm.de
SUMMARY:Stromablesung 1. von 2 // 2024
DESCRIPTION:Liebe Sportfreunde\, \nes erfolgt die Ablesung der Stromzählerstände. Bitte gewährt uns\, im Auftrag des Vorstandes\, freien Zugang zu Euren Anlagen\, damit auch eine Funktionsprüfung erfolgen kann. \nFür Eure Unterstützung bedanken wir uns im Voraus\, die Sportfreunde – Sandra Albrecht und Thomas Hackenberg
URL:https://www.sevkm.de/event/stromablesung-1-von-2-2024/
CATEGORIES:Vereinsarbeit
ATTACH;FMTTYPE=image/jpeg:https://www.sevkm.de/wp-content/uploads/2023/07/three-phase-meter-g42ae5dee6_640.jpg
END:VEVENT
BEGIN:VEVENT
DTSTART;TZID=Europe/Berlin:20240817T100000
DTEND;TZID=Europe/Berlin:20240817T130000
DTSTAMP:20260419T161611
CREATED:20240511T182714Z
LAST-MODIFIED:20240628T190622Z
UID:261-1723888800-1723899600@www.sevkm.de
SUMMARY:Stromablesung 2. von 2 // 2024
DESCRIPTION:Liebe Sportfreunde\, \nes erfolgt die Ablesung der Stromzählerstände. Bitte gewährt uns\, im Auftrag des Vorstandes\, freien Zugang zu Euren Anlagen\, damit auch eine Funktionsprüfung erfolgen kann. \nFür Eure Unterstützung bedanken wir uns im Voraus\, die Sportfreunde – Sandra Albrecht und Thomas Hackenberg
URL:https://www.sevkm.de/event/stromablesung-2-von-2-2024/
CATEGORIES:Vereinsarbeit
ATTACH;FMTTYPE=image/jpeg:https://www.sevkm.de/wp-content/uploads/2023/07/three-phase-meter-g42ae5dee6_640.jpg
END:VEVENT
BEGIN:VEVENT
DTSTART;TZID=Europe/Berlin:20240817T190000
DTEND;TZID=Europe/Berlin:20240818T010000
DTSTAMP:20260419T161611
CREATED:20230827T123031Z
LAST-MODIFIED:20230827T123751Z
UID:24-1723921200-1723942800@www.sevkm.de
SUMMARY:Sommerfest 2024
DESCRIPTION:
URL:https://www.sevkm.de/event/sommerfest-2024/
LOCATION:Mittelplatz
CATEGORIES:Feier
ATTACH;FMTTYPE=image/jpeg:https://www.sevkm.de/wp-content/uploads/2023/07/kelsey-chance-CutTQTt2HyI-unsplash.jpg
END:VEVENT
END:VCALENDAR