BEGIN:VCALENDAR
VERSION:2.0
PRODID:-//Sport- und Erholungsvereinigung &quot;Kleiner Müggelsee&quot; e.V. - ECPv6.15.20//NONSGML v1.0//EN
CALSCALE:GREGORIAN
METHOD:PUBLISH
X-WR-CALNAME:Sport- und Erholungsvereinigung &quot;Kleiner Müggelsee&quot; e.V.
X-ORIGINAL-URL:https://www.sevkm.de
X-WR-CALDESC:Veranstaltungen für Sport- und Erholungsvereinigung &quot;Kleiner Müggelsee&quot; e.V.
REFRESH-INTERVAL;VALUE=DURATION:PT1H
X-Robots-Tag:noindex
X-PUBLISHED-TTL:PT1H
BEGIN:VTIMEZONE
TZID:Europe/Berlin
BEGIN:DAYLIGHT
TZOFFSETFROM:+0100
TZOFFSETTO:+0200
TZNAME:CEST
DTSTART:20230326T010000
END:DAYLIGHT
BEGIN:STANDARD
TZOFFSETFROM:+0200
TZOFFSETTO:+0100
TZNAME:CET
DTSTART:20231029T010000
END:STANDARD
BEGIN:DAYLIGHT
TZOFFSETFROM:+0100
TZOFFSETTO:+0200
TZNAME:CEST
DTSTART:20240331T010000
END:DAYLIGHT
BEGIN:STANDARD
TZOFFSETFROM:+0200
TZOFFSETTO:+0100
TZNAME:CET
DTSTART:20241027T010000
END:STANDARD
BEGIN:DAYLIGHT
TZOFFSETFROM:+0100
TZOFFSETTO:+0200
TZNAME:CEST
DTSTART:20250330T010000
END:DAYLIGHT
BEGIN:STANDARD
TZOFFSETFROM:+0200
TZOFFSETTO:+0100
TZNAME:CET
DTSTART:20251026T010000
END:STANDARD
END:VTIMEZONE
BEGIN:VEVENT
DTSTART;TZID=Europe/Berlin:20240629T093000
DTEND;TZID=Europe/Berlin:20240629T103000
DTSTAMP:20260419T211418
CREATED:20240611T160227Z
LAST-MODIFIED:20240623T171425Z
UID:272-1719653400-1719657000@www.sevkm.de
SUMMARY:Vorstandsversammlung 2024 die Zweite
DESCRIPTION:Versammlung innerhalb des Vorstandsteam zum Thema Wahlen. \n  \nBei Gesprächsbedarf bitte zuvor anmelden per Mail an vorstand@sevkm.de oder persönlich bei einem Vorstandsmitglied. \n  \n  \n  \n  \nEurer Vorstandsteam
URL:https://www.sevkm.de/event/vorstandsversammlung-2024-die-zweite/
LOCATION:Besprechungscontainer
CATEGORIES:Vereinsarbeit
ATTACH;FMTTYPE=image/jpeg:https://www.sevkm.de/wp-content/uploads/2023/08/playmobil-451203_640.jpg
END:VEVENT
BEGIN:VEVENT
DTSTART;TZID=Europe/Berlin:20240629T210000
DTEND;TZID=Europe/Berlin:20240629T223000
DTSTAMP:20260419T211418
CREATED:20240624T173226Z
LAST-MODIFIED:20240624T180618Z
UID:290-1719694800-1719700200@www.sevkm.de
SUMMARY:Gemeinsam jubeln ⚽ Deutsch­land - Zweiter Gruppe C
DESCRIPTION:Einladung zum Public Viewing auf Leinwand mit Beamer. \nBitte Stühle ohne hohe Rückenlehne (keine Hochlehnerstühle) mitbringen. \nPS. Aus Erfahrung lässt sich das Spiel um 18 Uhr aufgrund der Helligkeit nicht so gut sehen.
URL:https://www.sevkm.de/event/gemeinsam-jubeln-%e2%9a%bd-deutschland-zweiter-gruppe-c/
LOCATION:Mittelplatz
CATEGORIES:Film
ATTACH;FMTTYPE=image/jpeg:https://www.sevkm.de/wp-content/uploads/2024/06/sebastian-pociecha-tc9dHZkx-CA-unsplash.jpg
END:VEVENT
END:VCALENDAR