BEGIN:VCALENDAR
VERSION:2.0
PRODID:-//Sport- und Erholungsvereinigung &quot;Kleiner Müggelsee&quot; e.V. - ECPv6.15.20//NONSGML v1.0//EN
CALSCALE:GREGORIAN
METHOD:PUBLISH
X-WR-CALNAME:Sport- und Erholungsvereinigung &quot;Kleiner Müggelsee&quot; e.V.
X-ORIGINAL-URL:https://www.sevkm.de
X-WR-CALDESC:Veranstaltungen für Sport- und Erholungsvereinigung &quot;Kleiner Müggelsee&quot; e.V.
REFRESH-INTERVAL;VALUE=DURATION:PT1H
X-Robots-Tag:noindex
X-PUBLISHED-TTL:PT1H
BEGIN:VTIMEZONE
TZID:Europe/Berlin
BEGIN:DAYLIGHT
TZOFFSETFROM:+0100
TZOFFSETTO:+0200
TZNAME:CEST
DTSTART:20220327T010000
END:DAYLIGHT
BEGIN:STANDARD
TZOFFSETFROM:+0200
TZOFFSETTO:+0100
TZNAME:CET
DTSTART:20221030T010000
END:STANDARD
BEGIN:DAYLIGHT
TZOFFSETFROM:+0100
TZOFFSETTO:+0200
TZNAME:CEST
DTSTART:20230326T010000
END:DAYLIGHT
BEGIN:STANDARD
TZOFFSETFROM:+0200
TZOFFSETTO:+0100
TZNAME:CET
DTSTART:20231029T010000
END:STANDARD
BEGIN:DAYLIGHT
TZOFFSETFROM:+0100
TZOFFSETTO:+0200
TZNAME:CEST
DTSTART:20240331T010000
END:DAYLIGHT
BEGIN:STANDARD
TZOFFSETFROM:+0200
TZOFFSETTO:+0100
TZNAME:CET
DTSTART:20241027T010000
END:STANDARD
END:VTIMEZONE
BEGIN:VEVENT
DTSTART;VALUE=DATE:20231020
DTEND;VALUE=DATE:20231021
DTSTAMP:20260422T204042
CREATED:20230819T110614Z
LAST-MODIFIED:20230827T122600Z
UID:171-1697760000-1697846399@www.sevkm.de
SUMMARY:Mülltonnen letzte Abholung // 2023
DESCRIPTION:
URL:https://www.sevkm.de/event/muelltonnen-letzte-abholung-2023/
CATEGORIES:Vereinsarbeit
ATTACH;FMTTYPE=image/jpeg:https://www.sevkm.de/wp-content/uploads/2023/08/garbage-can-231874_640.jpg
END:VEVENT
END:VCALENDAR