BEGIN:VCALENDAR
VERSION:2.0
PRODID:-//Sport- und Erholungsvereinigung &quot;Kleiner Müggelsee&quot; e.V. - ECPv6.15.20//NONSGML v1.0//EN
CALSCALE:GREGORIAN
METHOD:PUBLISH
X-ORIGINAL-URL:https://www.sevkm.de
X-WR-CALDESC:Veranstaltungen für Sport- und Erholungsvereinigung &quot;Kleiner Müggelsee&quot; e.V.
REFRESH-INTERVAL;VALUE=DURATION:PT1H
X-Robots-Tag:noindex
X-PUBLISHED-TTL:PT1H
BEGIN:VTIMEZONE
TZID:Europe/Berlin
BEGIN:DAYLIGHT
TZOFFSETFROM:+0100
TZOFFSETTO:+0200
TZNAME:CEST
DTSTART:20220327T010000
END:DAYLIGHT
BEGIN:STANDARD
TZOFFSETFROM:+0200
TZOFFSETTO:+0100
TZNAME:CET
DTSTART:20221030T010000
END:STANDARD
BEGIN:DAYLIGHT
TZOFFSETFROM:+0100
TZOFFSETTO:+0200
TZNAME:CEST
DTSTART:20230326T010000
END:DAYLIGHT
BEGIN:STANDARD
TZOFFSETFROM:+0200
TZOFFSETTO:+0100
TZNAME:CET
DTSTART:20231029T010000
END:STANDARD
BEGIN:DAYLIGHT
TZOFFSETFROM:+0100
TZOFFSETTO:+0200
TZNAME:CEST
DTSTART:20240331T010000
END:DAYLIGHT
BEGIN:STANDARD
TZOFFSETFROM:+0200
TZOFFSETTO:+0100
TZNAME:CET
DTSTART:20241027T010000
END:STANDARD
END:VTIMEZONE
BEGIN:VEVENT
DTSTART;TZID=Europe/Berlin:20230826T100000
DTEND;TZID=Europe/Berlin:20230826T120000
DTSTAMP:20260422T224451
CREATED:20230816T213513Z
LAST-MODIFIED:20230816T213632Z
UID:131-1693044000-1693051200@www.sevkm.de
SUMMARY:Vorstandsversammlung
DESCRIPTION:Bei Gesprächsbedarf bitte zuvor anmelden per Mail an vorstand@sevkm.de oder persönlich bei einem Vorstandsmitglied. \nEurer Vorstandsteam
URL:https://www.sevkm.de/event/vorstandsversammlung/
LOCATION:Besprechungscontainer
CATEGORIES:Vereinsarbeit
ATTACH;FMTTYPE=image/jpeg:https://www.sevkm.de/wp-content/uploads/2023/08/playmobil-451203_640.jpg
END:VEVENT
BEGIN:VEVENT
DTSTART;TZID=Europe/Berlin:20230826T150000
DTEND;TZID=Europe/Berlin:20230826T210000
DTSTAMP:20260422T224451
CREATED:20230817T203046Z
LAST-MODIFIED:20230818T164007Z
UID:152-1693062000-1693083600@www.sevkm.de
SUMMARY:Videonachmittag
DESCRIPTION: 
URL:https://www.sevkm.de/event/videonachmittag/
LOCATION:Mittelplatz
CATEGORIES:Film
ATTACH;FMTTYPE=image/jpeg:https://www.sevkm.de/wp-content/uploads/2023/08/jeremy-yap-J39X2xX_8CQ-unsplash-1.jpg
END:VEVENT
END:VCALENDAR